BEGIN:VCALENDAR
VERSION:2.0
PRODID:-//First Presbyterian Church - ECPv6.15.20//NONSGML v1.0//EN
CALSCALE:GREGORIAN
METHOD:PUBLISH
X-WR-CALNAME:First Presbyterian Church
X-ORIGINAL-URL:https://fpclag.org
X-WR-CALDESC:Events for First Presbyterian Church
REFRESH-INTERVAL;VALUE=DURATION:PT1H
X-Robots-Tag:noindex
X-PUBLISHED-TTL:PT1H
BEGIN:VTIMEZONE
TZID:America/Indiana/Indianapolis
BEGIN:DAYLIGHT
TZOFFSETFROM:-0500
TZOFFSETTO:-0400
TZNAME:EDT
DTSTART:20180311T070000
END:DAYLIGHT
BEGIN:STANDARD
TZOFFSETFROM:-0400
TZOFFSETTO:-0500
TZNAME:EST
DTSTART:20181104T060000
END:STANDARD
BEGIN:DAYLIGHT
TZOFFSETFROM:-0500
TZOFFSETTO:-0400
TZNAME:EDT
DTSTART:20190310T070000
END:DAYLIGHT
BEGIN:STANDARD
TZOFFSETFROM:-0400
TZOFFSETTO:-0500
TZNAME:EST
DTSTART:20191103T060000
END:STANDARD
BEGIN:DAYLIGHT
TZOFFSETFROM:-0500
TZOFFSETTO:-0400
TZNAME:EDT
DTSTART:20200308T070000
END:DAYLIGHT
BEGIN:STANDARD
TZOFFSETFROM:-0400
TZOFFSETTO:-0500
TZNAME:EST
DTSTART:20201101T060000
END:STANDARD
BEGIN:DAYLIGHT
TZOFFSETFROM:-0500
TZOFFSETTO:-0400
TZNAME:EDT
DTSTART:20210314T070000
END:DAYLIGHT
BEGIN:STANDARD
TZOFFSETFROM:-0400
TZOFFSETTO:-0500
TZNAME:EST
DTSTART:20211107T060000
END:STANDARD
END:VTIMEZONE
BEGIN:VEVENT
DTSTART;TZID=America/Indiana/Indianapolis:20200913T100000
DTEND;TZID=America/Indiana/Indianapolis:20200913T104500
DTSTAMP:20260423T130745
CREATED:20200726T163719Z
LAST-MODIFIED:20200726T172124Z
UID:181-1599991200-1599993900@fpclag.org
SUMMARY:Sunday Worship Services 9-13-20
DESCRIPTION:
URL:https://fpclag.org/event/sunday-worship-services-9-13-20/
LOCATION:First Presbyterian Church\, 200 W Michigan St\, LaGrange\, IN\, 46761\, United States
CATEGORIES:Sunday Service,The Church
END:VEVENT
BEGIN:VEVENT
DTSTART;TZID=America/Indiana/Indianapolis:20200906T100000
DTEND;TZID=America/Indiana/Indianapolis:20200906T104500
DTSTAMP:20260423T130745
CREATED:20200726T163459Z
LAST-MODIFIED:20200726T172221Z
UID:175-1599386400-1599389100@fpclag.org
SUMMARY:Sunday Worship Services 9-6-20
DESCRIPTION:
URL:https://fpclag.org/event/sunday-worship-services-9-6-20/
LOCATION:First Presbyterian Church\, 200 W Michigan St\, LaGrange\, IN\, 46761\, United States
CATEGORIES:Sunday Service,The Church
END:VEVENT
BEGIN:VEVENT
DTSTART;TZID=America/Indiana/Indianapolis:20200830T100000
DTEND;TZID=America/Indiana/Indianapolis:20200830T104500
DTSTAMP:20260423T130745
CREATED:20200726T164020Z
LAST-MODIFIED:20200726T173838Z
UID:192-1598781600-1598784300@fpclag.org
SUMMARY:Sunday Worship Service 8-30-20
DESCRIPTION:
URL:https://fpclag.org/event/sunday-worship-service-8-30-20/
LOCATION:First Presbyterian Church\, 200 W Michigan St\, LaGrange\, IN\, 46761\, United States
CATEGORIES:Sunday Service,The Church
END:VEVENT
BEGIN:VEVENT
DTSTART;TZID=America/Indiana/Indianapolis:20200823T100000
DTEND;TZID=America/Indiana/Indianapolis:20200823T104500
DTSTAMP:20260423T130745
CREATED:20200726T163931Z
LAST-MODIFIED:20200726T173445Z
UID:189-1598176800-1598179500@fpclag.org
SUMMARY:Sunday Worship Service 8-23-20
DESCRIPTION:
URL:https://fpclag.org/event/sunday-worship-service-8-23-20/
LOCATION:First Presbyterian Church\, 200 W Michigan St\, LaGrange\, IN\, 46761\, United States
CATEGORIES:Sunday Service,The Church
END:VEVENT
BEGIN:VEVENT
DTSTART;TZID=America/Indiana/Indianapolis:20200816T100000
DTEND;TZID=America/Indiana/Indianapolis:20200816T104500
DTSTAMP:20260423T130745
CREATED:20200726T163733Z
LAST-MODIFIED:20200726T173334Z
UID:182-1597572000-1597574700@fpclag.org
SUMMARY:Sunday Worship Service 8-16-20
DESCRIPTION:
URL:https://fpclag.org/event/sunday-worship-service-8-16-20/
LOCATION:First Presbyterian Church\, 200 W Michigan St\, LaGrange\, IN\, 46761\, United States
CATEGORIES:The Church
END:VEVENT
BEGIN:VEVENT
DTSTART;TZID=America/Indiana/Indianapolis:20200809T100000
DTEND;TZID=America/Indiana/Indianapolis:20200809T104500
DTSTAMP:20260423T130745
CREATED:20200726T163628Z
LAST-MODIFIED:20200726T174742Z
UID:178-1596967200-1596969900@fpclag.org
SUMMARY:Sunday Worship Service 8-9-20
DESCRIPTION:
URL:https://fpclag.org/event/sunday-worship-service-8-9-20/
LOCATION:First Presbyterian Church\, 200 W Michigan St\, LaGrange\, IN\, 46761\, United States
CATEGORIES:Sunday Service,The Church
END:VEVENT
BEGIN:VEVENT
DTSTART;TZID=America/Indiana/Indianapolis:20200802T100000
DTEND;TZID=America/Indiana/Indianapolis:20200802T104500
DTSTAMP:20260423T130745
CREATED:20200726T163040Z
LAST-MODIFIED:20200726T172032Z
UID:176-1596362400-1596365100@fpclag.org
SUMMARY:Sunday Worship Service 8-2-20
DESCRIPTION:
URL:https://fpclag.org/event/sunday-worship-service-8-2-20/
LOCATION:First Presbyterian Church\, 200 W Michigan St\, LaGrange\, IN\, 46761\, United States
CATEGORIES:Sunday Service,The Church
END:VEVENT
BEGIN:VEVENT
DTSTART;TZID=America/Indiana/Indianapolis:20191224T160000
DTEND;TZID=America/Indiana/Indianapolis:20191224T170000
DTSTAMP:20260423T130745
CREATED:20191221T221954Z
LAST-MODIFIED:20191221T221954Z
UID:159-1577203200-1577206800@fpclag.org
SUMMARY:Christmas Eve Service
DESCRIPTION:  \n 
URL:https://fpclag.org/event/christmas-eve-service/
LOCATION:IN
CATEGORIES:The Church
END:VEVENT
BEGIN:VEVENT
DTSTART;TZID=America/Indiana/Indianapolis:20190929T100000
DTEND;TZID=America/Indiana/Indianapolis:20190929T230000
DTSTAMP:20260423T130745
CREATED:20190907T141914Z
LAST-MODIFIED:20190907T145417Z
UID:119-1569751200-1569798000@fpclag.org
SUMMARY:Sunday Worship Services
DESCRIPTION:
URL:https://fpclag.org/event/sunday-worship-services/
LOCATION:First Presbyterian Church\, 200 W Michigan St\, LaGrange\, IN\, 46761\, United States
CATEGORIES:Sunday Service
END:VEVENT
BEGIN:VEVENT
DTSTART;TZID=America/Indiana/Indianapolis:20190922T110000
DTEND;TZID=America/Indiana/Indianapolis:20190922T120000
DTSTAMP:20260423T130745
CREATED:20190907T145316Z
LAST-MODIFIED:20190907T145316Z
UID:137-1569150000-1569153600@fpclag.org
SUMMARY:Hospitality Hour
DESCRIPTION:
URL:https://fpclag.org/event/hospitality-hour-3/
LOCATION:IN
CATEGORIES:Hospitality Hour
END:VEVENT
BEGIN:VEVENT
DTSTART;TZID=America/Indiana/Indianapolis:20190922T100000
DTEND;TZID=America/Indiana/Indianapolis:20190922T110000
DTSTAMP:20260423T130745
CREATED:20190907T141816Z
LAST-MODIFIED:20190907T145421Z
UID:117-1569146400-1569150000@fpclag.org
SUMMARY:Sunday Worship Service
DESCRIPTION:
URL:https://fpclag.org/event/sunday-worship-service-3/
LOCATION:First Presbyterian Church\, 200 W Michigan St\, LaGrange\, IN\, 46761\, United States
CATEGORIES:Sunday Service
END:VEVENT
BEGIN:VEVENT
DTSTART;TZID=America/Indiana/Indianapolis:20190917T190000
DTEND;TZID=America/Indiana/Indianapolis:20190917T203000
DTSTAMP:20260423T130745
CREATED:20190907T150449Z
LAST-MODIFIED:20190907T150449Z
UID:143-1568746800-1568752200@fpclag.org
SUMMARY:Emerging Leaders- Power  Circle Meeting
DESCRIPTION:Interested in finding out what we do? Join us for one of our monthly meetings!
URL:https://fpclag.org/event/emerging-leaders-power-circle-meeting/
LOCATION:The Garage\, 111 W Lafayette\, LaGrange\, IN\, 46761\, United States
CATEGORIES:Emerging Leaders of LaGrange,The Garage
ORGANIZER;CN="Emerging Leaders of LaGrange County":MAILTO:info@emergingleadersoflagrange.com
END:VEVENT
BEGIN:VEVENT
DTSTART;TZID=America/Indiana/Indianapolis:20190915T110000
DTEND;TZID=America/Indiana/Indianapolis:20190915T120000
DTSTAMP:20260423T130745
CREATED:20190907T145242Z
LAST-MODIFIED:20190907T145340Z
UID:135-1568545200-1568548800@fpclag.org
SUMMARY:Hospitality Hour
DESCRIPTION:
URL:https://fpclag.org/event/hospitality-hour-2/
LOCATION:First Presbyterian Church\, 200 W Michigan St\, LaGrange\, IN\, 46761\, United States
CATEGORIES:Hospitality Hour
END:VEVENT
BEGIN:VEVENT
DTSTART;TZID=America/Indiana/Indianapolis:20190915T100000
DTEND;TZID=America/Indiana/Indianapolis:20190915T110000
DTSTAMP:20260423T130745
CREATED:20190907T141739Z
LAST-MODIFIED:20190907T141739Z
UID:115-1568541600-1568545200@fpclag.org
SUMMARY:Sunday Worship Service
DESCRIPTION:
URL:https://fpclag.org/event/sunday-worship-service-2/
LOCATION:First Presbyterian Church\, 200 W Michigan St\, LaGrange\, IN\, 46761\, United States
CATEGORIES:Sunday Service
END:VEVENT
BEGIN:VEVENT
DTSTART;TZID=America/Indiana/Indianapolis:20190914T140000
DTEND;TZID=America/Indiana/Indianapolis:20190914T160000
DTSTAMP:20260423T130745
CREATED:20190907T145838Z
LAST-MODIFIED:20190907T145838Z
UID:139-1568469600-1568476800@fpclag.org
SUMMARY:Emerging Leaders- Cookies and Canvas
DESCRIPTION:Enjoy your sweet tooth while creating one-of-a-kind artwork with retired LaGrange County art teacher Terry Gust. \nAll art supplies will be provided\, which includes an 8×10 canvas. The event is free; however\, space is limited to the first 25 people. Registration is required. \nBreak out your creative side and join the Emerging Leaders of LaGrange County for a fun\, laid back afternoon! Learn more about our initiative to connect\, empower\, and volunteer within the Twenty- and Thirty-Something audience in LaGrange County. \nCookies are included in the registration. Additional beverages and snacks will be available for purchase. \nEvent is open to ages 8+ \nQuestions? Email info@emergingleadersoflagrange.com
URL:https://fpclag.org/event/emerging-leaders-cookies-and-canvas/
LOCATION:The Garage\, 111 W Lafayette\, LaGrange\, IN\, 46761\, United States
CATEGORIES:Emerging Leaders of LaGrange,The Garage
ORGANIZER;CN="Emerging Leaders of LaGrange County":MAILTO:info@emergingleadersoflagrange.com
END:VEVENT
BEGIN:VEVENT
DTSTART;TZID=America/Indiana/Indianapolis:20190908T110000
DTEND;TZID=America/Indiana/Indianapolis:20190908T120000
DTSTAMP:20260423T130745
CREATED:20190907T145203Z
LAST-MODIFIED:20190907T145203Z
UID:133-1567940400-1567944000@fpclag.org
SUMMARY:Hospitality Hour
DESCRIPTION:
URL:https://fpclag.org/event/hospitality-hour/
LOCATION:First Presbyterian Church\, 200 W Michigan St\, LaGrange\, IN\, 46761\, United States
CATEGORIES:Hospitality Hour
END:VEVENT
BEGIN:VEVENT
DTSTART;TZID=America/Indiana/Indianapolis:20190908T100000
DTEND;TZID=America/Indiana/Indianapolis:20190908T110000
DTSTAMP:20260423T130745
CREATED:20190907T140452Z
LAST-MODIFIED:20190907T141643Z
UID:105-1567936800-1567940400@fpclag.org
SUMMARY:Sunday Worship Service
DESCRIPTION:
URL:https://fpclag.org/event/sunday-worship-service/
LOCATION:First Presbyterian Church\, 200 W Michigan St\, LaGrange\, IN\, 46761\, United States
CATEGORIES:Sunday Service
END:VEVENT
END:VCALENDAR