BEGIN:VCALENDAR
VERSION:2.0
PRODID:-//First Presbyterian Church - ECPv6.15.20//NONSGML v1.0//EN
CALSCALE:GREGORIAN
METHOD:PUBLISH
X-WR-CALNAME:First Presbyterian Church
X-ORIGINAL-URL:https://fpclag.org
X-WR-CALDESC:Events for First Presbyterian Church
REFRESH-INTERVAL;VALUE=DURATION:PT1H
X-Robots-Tag:noindex
X-PUBLISHED-TTL:PT1H
BEGIN:VTIMEZONE
TZID:America/Indiana/Indianapolis
BEGIN:DAYLIGHT
TZOFFSETFROM:-0500
TZOFFSETTO:-0400
TZNAME:EDT
DTSTART:20180311T070000
END:DAYLIGHT
BEGIN:STANDARD
TZOFFSETFROM:-0400
TZOFFSETTO:-0500
TZNAME:EST
DTSTART:20181104T060000
END:STANDARD
BEGIN:DAYLIGHT
TZOFFSETFROM:-0500
TZOFFSETTO:-0400
TZNAME:EDT
DTSTART:20190310T070000
END:DAYLIGHT
BEGIN:STANDARD
TZOFFSETFROM:-0400
TZOFFSETTO:-0500
TZNAME:EST
DTSTART:20191103T060000
END:STANDARD
BEGIN:DAYLIGHT
TZOFFSETFROM:-0500
TZOFFSETTO:-0400
TZNAME:EDT
DTSTART:20200308T070000
END:DAYLIGHT
BEGIN:STANDARD
TZOFFSETFROM:-0400
TZOFFSETTO:-0500
TZNAME:EST
DTSTART:20201101T060000
END:STANDARD
END:VTIMEZONE
BEGIN:VEVENT
DTSTART;TZID=America/Indiana/Indianapolis:20190922T100000
DTEND;TZID=America/Indiana/Indianapolis:20190922T110000
DTSTAMP:20260423T183003
CREATED:20190907T141816Z
LAST-MODIFIED:20190907T145421Z
UID:117-1569146400-1569150000@fpclag.org
SUMMARY:Sunday Worship Service
DESCRIPTION:
URL:https://fpclag.org/event/sunday-worship-service-3/
LOCATION:First Presbyterian Church\, 200 W Michigan St\, LaGrange\, IN\, 46761\, United States
CATEGORIES:Sunday Service
END:VEVENT
BEGIN:VEVENT
DTSTART;TZID=America/Indiana/Indianapolis:20190915T110000
DTEND;TZID=America/Indiana/Indianapolis:20190915T120000
DTSTAMP:20260423T183003
CREATED:20190907T145242Z
LAST-MODIFIED:20190907T145340Z
UID:135-1568545200-1568548800@fpclag.org
SUMMARY:Hospitality Hour
DESCRIPTION:
URL:https://fpclag.org/event/hospitality-hour-2/
LOCATION:First Presbyterian Church\, 200 W Michigan St\, LaGrange\, IN\, 46761\, United States
CATEGORIES:Hospitality Hour
END:VEVENT
BEGIN:VEVENT
DTSTART;TZID=America/Indiana/Indianapolis:20190915T100000
DTEND;TZID=America/Indiana/Indianapolis:20190915T110000
DTSTAMP:20260423T183003
CREATED:20190907T141739Z
LAST-MODIFIED:20190907T141739Z
UID:115-1568541600-1568545200@fpclag.org
SUMMARY:Sunday Worship Service
DESCRIPTION:
URL:https://fpclag.org/event/sunday-worship-service-2/
LOCATION:First Presbyterian Church\, 200 W Michigan St\, LaGrange\, IN\, 46761\, United States
CATEGORIES:Sunday Service
END:VEVENT
BEGIN:VEVENT
DTSTART;TZID=America/Indiana/Indianapolis:20190908T110000
DTEND;TZID=America/Indiana/Indianapolis:20190908T120000
DTSTAMP:20260423T183003
CREATED:20190907T145203Z
LAST-MODIFIED:20190907T145203Z
UID:133-1567940400-1567944000@fpclag.org
SUMMARY:Hospitality Hour
DESCRIPTION:
URL:https://fpclag.org/event/hospitality-hour/
LOCATION:First Presbyterian Church\, 200 W Michigan St\, LaGrange\, IN\, 46761\, United States
CATEGORIES:Hospitality Hour
END:VEVENT
BEGIN:VEVENT
DTSTART;TZID=America/Indiana/Indianapolis:20190908T100000
DTEND;TZID=America/Indiana/Indianapolis:20190908T110000
DTSTAMP:20260423T183003
CREATED:20190907T140452Z
LAST-MODIFIED:20190907T141643Z
UID:105-1567936800-1567940400@fpclag.org
SUMMARY:Sunday Worship Service
DESCRIPTION:
URL:https://fpclag.org/event/sunday-worship-service/
LOCATION:First Presbyterian Church\, 200 W Michigan St\, LaGrange\, IN\, 46761\, United States
CATEGORIES:Sunday Service
END:VEVENT
END:VCALENDAR